BEGIN:VCALENDAR
VERSION:2.0
PRODID:-//Paving the Way Project, Incorporated - ECPv6.15.20//NONSGML v1.0//EN
CALSCALE:GREGORIAN
METHOD:PUBLISH
X-WR-CALNAME:Paving the Way Project, Incorporated
X-ORIGINAL-URL:https://pavingthewayproject.org
X-WR-CALDESC:Events for Paving the Way Project, Incorporated
REFRESH-INTERVAL;VALUE=DURATION:PT1H
X-Robots-Tag:noindex
X-PUBLISHED-TTL:PT1H
BEGIN:VTIMEZONE
TZID:America/Chicago
BEGIN:DAYLIGHT
TZOFFSETFROM:-0600
TZOFFSETTO:-0500
TZNAME:CDT
DTSTART:20230312T080000
END:DAYLIGHT
BEGIN:STANDARD
TZOFFSETFROM:-0500
TZOFFSETTO:-0600
TZNAME:CST
DTSTART:20231105T070000
END:STANDARD
BEGIN:DAYLIGHT
TZOFFSETFROM:-0600
TZOFFSETTO:-0500
TZNAME:CDT
DTSTART:20240310T080000
END:DAYLIGHT
BEGIN:STANDARD
TZOFFSETFROM:-0500
TZOFFSETTO:-0600
TZNAME:CST
DTSTART:20241103T070000
END:STANDARD
BEGIN:DAYLIGHT
TZOFFSETFROM:-0600
TZOFFSETTO:-0500
TZNAME:CDT
DTSTART:20250309T080000
END:DAYLIGHT
BEGIN:STANDARD
TZOFFSETFROM:-0500
TZOFFSETTO:-0600
TZNAME:CST
DTSTART:20251102T070000
END:STANDARD
END:VTIMEZONE
BEGIN:VEVENT
DTSTART;TZID=America/Chicago:20241214T090000
DTEND;TZID=America/Chicago:20241214T130000
DTSTAMP:20260424T141259
CREATED:20241104T174124Z
LAST-MODIFIED:20241104T174124Z
UID:1158-1734166800-1734181200@pavingthewayproject.org
SUMMARY:9th Annual Breakfast With Santa
DESCRIPTION:You must register to attend:   Registration Form \n \n   
URL:https://pavingthewayproject.org/event/9th-annual-breakfast-with-santa/
LOCATION:Timothy Community Center\, 4351 S. Drexel Blvd\, Chicago\, IL\, 60653\, United States
END:VEVENT
BEGIN:VEVENT
DTSTART;TZID=America/Chicago:20241121T100000
DTEND;TZID=America/Chicago:20241121T170000
DTSTAMP:20260424T141259
CREATED:20241104T175610Z
LAST-MODIFIED:20241104T175910Z
UID:1165-1732183200-1732208400@pavingthewayproject.org
SUMMARY:Strides for Peace 2024 Gun Violence Prevention Expo
DESCRIPTION:
URL:https://pavingthewayproject.org/event/strides-for-peace-2024-gun-violence-prevention-expo/
LOCATION:UIC Dorin Forum\, 725 W. Roosevelt Rd\, Chicago\, IL\, 60607\, United States
END:VEVENT
BEGIN:VEVENT
DTSTART;VALUE=DATE:20241101
DTEND;VALUE=DATE:20241207
DTSTAMP:20260424T141259
CREATED:20241101T162233Z
LAST-MODIFIED:20241104T180840Z
UID:1155-1730419200-1733529599@pavingthewayproject.org
SUMMARY:2024 Christmas Toy Drive
DESCRIPTION:
URL:https://pavingthewayproject.org/event/2024-christmas-toy-drive/
LOCATION:Paving The Way Project\, Inc\, 109 E. 53rd Street\, Chicago\, IL\, 60615\, United States
END:VEVENT
BEGIN:VEVENT
DTSTART;TZID=America/Chicago:20240921T170000
DTEND;TZID=America/Chicago:20240921T210000
DTSTAMP:20260424T141259
CREATED:20240613T161054Z
LAST-MODIFIED:20240613T161054Z
UID:1148-1726938000-1726952400@pavingthewayproject.org
SUMMARY:10th Year Anniversary Celebration
DESCRIPTION:
URL:https://pavingthewayproject.org/event/10th-year-anniversary-celebration/
LOCATION:Washington Park Refectory\, 5531 S. Russell Drive\, Chicago\, 60637\, United States
END:VEVENT
BEGIN:VEVENT
DTSTART;TZID=America/Chicago:20240713T110000
DTEND;TZID=America/Chicago:20240713T163000
DTSTAMP:20260424T141259
CREATED:20240613T153645Z
LAST-MODIFIED:20240613T153811Z
UID:1138-1720868400-1720888200@pavingthewayproject.org
SUMMARY:9th Annual Summer Cool Down
DESCRIPTION:
URL:https://pavingthewayproject.org/event/9th-annual-summer-cool-down/
LOCATION:Paving The Way Project\, Inc\, 109 E. 53rd Street\, Chicago\, IL\, 60615\, United States
END:VEVENT
END:VCALENDAR